BEGIN:VCALENDAR
VERSION:2.0
PRODID:-//Lake Hill Elementary - ECPv6.2.8.1//NONSGML v1.0//EN
CALSCALE:GREGORIAN
METHOD:PUBLISH
X-WR-CALNAME:Lake Hill Elementary
X-ORIGINAL-URL:https://lakehill.sd61.bc.ca
X-WR-CALDESC:Events for Lake Hill Elementary
REFRESH-INTERVAL;VALUE=DURATION:PT1H
X-Robots-Tag:noindex
X-PUBLISHED-TTL:PT1H
BEGIN:VTIMEZONE
TZID:America/Vancouver
BEGIN:DAYLIGHT
TZOFFSETFROM:-0800
TZOFFSETTO:-0700
TZNAME:PDT
DTSTART:20250309T100000
END:DAYLIGHT
BEGIN:STANDARD
TZOFFSETFROM:-0700
TZOFFSETTO:-0800
TZNAME:PST
DTSTART:20251102T090000
END:STANDARD
END:VTIMEZONE
BEGIN:VEVENT
DTSTART;TZID=America/Vancouver:20251008T190000
DTEND;TZID=America/Vancouver:20251008T190000
DTSTAMP:20260425T110040
CREATED:20250624T184555Z
LAST-MODIFIED:20250624T184555Z
UID:5431-1759950000-1759950000@lakehill.sd61.bc.ca
SUMMARY:Pac Meeting
DESCRIPTION:
URL:https://lakehill.sd61.bc.ca/calendar-event/pac-meeting-2/
END:VEVENT
BEGIN:VEVENT
DTSTART;TZID=America/Vancouver:20251010T080000
DTEND;TZID=America/Vancouver:20251010T170000
DTSTAMP:20260425T110040
CREATED:20250626T171155Z
LAST-MODIFIED:20250626T171155Z
UID:5452-1760083200-1760115600@lakehill.sd61.bc.ca
SUMMARY:Fun lunch
DESCRIPTION:
URL:https://lakehill.sd61.bc.ca/calendar-event/fun-lunch-21/
END:VEVENT
BEGIN:VEVENT
DTSTART;VALUE=DATE:20251013
DTEND;VALUE=DATE:20251014
DTSTAMP:20260425T110040
CREATED:20250624T180553Z
LAST-MODIFIED:20250624T180553Z
UID:5391-1760313600-1760399999@lakehill.sd61.bc.ca
SUMMARY:Thanksgiving Day
DESCRIPTION:
URL:https://lakehill.sd61.bc.ca/calendar-event/thanksgiving-day-2/
END:VEVENT
BEGIN:VEVENT
DTSTART;TZID=America/Vancouver:20251015T123000
DTEND;TZID=America/Vancouver:20251015T170000
DTSTAMP:20260425T110040
CREATED:20250624T175731Z
LAST-MODIFIED:20250624T175731Z
UID:5373-1760531400-1760547600@lakehill.sd61.bc.ca
SUMMARY:Parent Teacher Interviews
DESCRIPTION:
URL:https://lakehill.sd61.bc.ca/calendar-event/parent-teacher-interviews/
END:VEVENT
BEGIN:VEVENT
DTSTART;TZID=America/Vancouver:20251016T030000
DTEND;TZID=America/Vancouver:20251016T170000
DTSTAMP:20260425T110040
CREATED:20251009T215323Z
LAST-MODIFIED:20251009T215323Z
UID:5508-1760583600-1760634000@lakehill.sd61.bc.ca
SUMMARY:Parent Teacher Conferences
DESCRIPTION:
URL:https://lakehill.sd61.bc.ca/calendar-event/parent-teacher-conferences-2/
END:VEVENT
BEGIN:VEVENT
DTSTART;TZID=America/Vancouver:20251017T090000
DTEND;TZID=America/Vancouver:20251017T230000
DTSTAMP:20260425T110040
CREATED:20250624T185030Z
LAST-MODIFIED:20250624T185030Z
UID:5447-1760691600-1760742000@lakehill.sd61.bc.ca
SUMMARY:Photo Retakes
DESCRIPTION:
URL:https://lakehill.sd61.bc.ca/calendar-event/photo-retakes-2/
END:VEVENT
BEGIN:VEVENT
DTSTART;TZID=America/Vancouver:20251023T170000
DTEND;TZID=America/Vancouver:20251023T180000
DTSTAMP:20260425T110040
CREATED:20250624T182327Z
LAST-MODIFIED:20250624T182327Z
UID:5415-1761238800-1761242400@lakehill.sd61.bc.ca
SUMMARY:Scarecrow Stomp
DESCRIPTION:
URL:https://lakehill.sd61.bc.ca/calendar-event/scarecrow-stomp-3/
END:VEVENT
BEGIN:VEVENT
DTSTART;VALUE=DATE:20251024
DTEND;VALUE=DATE:20251025
DTSTAMP:20260425T110040
CREATED:20250624T175855Z
LAST-MODIFIED:20250624T180243Z
UID:5379-1761264000-1761350399@lakehill.sd61.bc.ca
SUMMARY:Pro D Day
DESCRIPTION:
URL:https://lakehill.sd61.bc.ca/calendar-event/pro-d-day-14/
END:VEVENT
BEGIN:VEVENT
DTSTART;TZID=America/Vancouver:20251030T080000
DTEND;TZID=America/Vancouver:20251030T170000
DTSTAMP:20260425T110040
CREATED:20251009T215945Z
LAST-MODIFIED:20251009T215945Z
UID:5511-1761811200-1761843600@lakehill.sd61.bc.ca
SUMMARY:Soccer Jamboree
DESCRIPTION:
URL:https://lakehill.sd61.bc.ca/calendar-event/soccer-jamboree/
END:VEVENT
END:VCALENDAR